BEGIN:VCALENDAR
VERSION:2.0
PRODID:-//eventon.com NONSGML v1.0//EN
CALSCALE:GREGORIAN
METHOD:PUBLISH
BEGIN:VEVENT
UID:69e9e17a06e44
DTSTAMP:20260423T090810Z
DTSTART:20221217T110000Z
DTEND:20221217T140000Z
LOCATION:
SUMMARY:Kerst in Vaassen
DESCRIPTION:Happy hour\,  leuke aanbiedingen in diverse winkels Optreden va
 n koren Gratis warme chocolademelk en glühwein\nhttps://www.uitinvaassen.n
 l/events/kerst-in-vaassen/
URL:https://www.uitinvaassen.nl/events/kerst-in-vaassen/
END:VEVENT
END:VCALENDAR